View In:
ArcGIS JavaScript
NIWA ArcGIS Enterprise Map Viewer
ArcGIS Earth
Service Description: _________________________________________________________________________________________________________________
Item Page Created: 2024-08-15 03:38
Item Page Last Modified: 2024-08-15 03:38
Owner: [email protected]
Name: PARTneR-II/Cooks_100ARI_CoastalFloodDepth
Description: _________________________________________________________________________________________________________________
Item Page Created: 2024-08-15 03:38
Item Page Last Modified: 2024-08-15 03:38
Owner: [email protected]
Single Fused Map Cache: false
Extent:
XMin: 415049.071
YMin: 7654294.546
XMax: 420500.071
YMax: 7655884.546
Spatial Reference: 0
(0)
LatestVCSWkid(0)
Initial Extent:
XMin: 415049.071
YMin: 7654294.546
XMax: 420500.071
YMax: 7655884.546
Spatial Reference: 0
(0)
LatestVCSWkid(0)
Full Extent:
XMin: 415049.071
YMin: 7654294.546
XMax: 420500.071
YMax: 7655884.546
Spatial Reference: 0
(0)
LatestVCSWkid(0)
Pixel Size X: 3.0
Pixel Size Y: 3.0
Band Count: 1
Pixel Type: F64
RasterFunction Infos: {"rasterFunctionInfos": [
{
"name": "CooksFloodSymbology",
"description": "For displaying flood depth",
"help": ""
},
{
"name": "None",
"description": "",
"help": ""
}
]}
Mensuration Capabilities: Basic
Has Histograms: true
Has Colormap: false
Has Multi Dimensions : false
Rendering Rule:
Min Scale: 0
Max Scale: 0
Copyright Text: NIWA 2024
Service Data Type: esriImageServiceDataTypeGeneric
Min Values: 0.0044
Max Values: 3.056
Mean Values: 1.1875635655515
Standard Deviation Values: 0.6863263821672
Object ID Field:
Fields:
None
Default Mosaic Method: Center
Allowed Mosaic Methods:
SortField:
SortValue: null
Mosaic Operator: First
Default Compression Quality: 75
Default Resampling Method: Bilinear
Max Record Count: null
Max Image Height: 4100
Max Image Width: 15000
Max Download Image Count: null
Max Mosaic Image Count: null
Allow Raster Function: true
Allow Copy: false
Allow Analysis: true
Allow Compute TiePoints: false
Supports Statistics: false
Supports Advanced Queries: false
Use StandardizedQueries: true
Raster Type Infos:
Name: Raster Dataset
Description: Supports all ArcGIS Raster Datasets
Help:
Has Raster Attribute Table: false
Edit Fields Info: null
Ownership Based AccessControl For Rasters: null
Child Resources:
Info
Histograms
Statistics
Key Properties
Legend
Raster Function Infos
Supported Operations:
Export Image
Identify
Measure
Compute Histograms
Compute Statistics Histograms
Get Samples
Compute Class Statistics
Query Boundary
Compute Pixel Location
Compute Angles
Validate
Project