{
"currentVersion": 11.1,
"serviceDescription": "_________________________________________________________________________________________________________________
Item Page Created:<\/b> 2024-08-15 03:38
Item Page Last Modified:<\/b> 2024-08-15 03:38
Owner: James.Sturman@niwa.co.nz<\/font>
",
"name": "PARTneR-II/Cooks_100ARI_CoastalFloodDepth",
"description": "_________________________________________________________________________________________________________________
Item Page Created:<\/b> 2024-08-15 03:38
Item Page Last Modified:<\/b> 2024-08-15 03:38
Owner: James.Sturman@niwa.co.nz<\/font>
",
"extent": {
"xmin": 415049.071,
"ymin": 7654294.546,
"xmax": 420500.071,
"ymax": 7655884.546,
"spatialReference": {"wkt": "PROJCS[\"UTM_Zone_4_Southern_Hemisphere\",GEOGCS[\"GCS_Geographic_Coordinate_System\",DATUM[\"D_WGS84\",SPHEROID[\"WGS84\",6378137.0,298.257223563]],PRIMEM[\"Greenwich\",0.0],UNIT[\"Degree\",0.0174532925199433]],PROJECTION[\"Transverse_Mercator\"],PARAMETER[\"false_easting\",500000.0],PARAMETER[\"false_northing\",10000000.0],PARAMETER[\"central_meridian\",-159.0],PARAMETER[\"scale_factor\",0.9996],PARAMETER[\"latitude_of_origin\",0.0],UNIT[\"Meter\",1.0]]"}
},
"initialExtent": {
"xmin": 415049.071,
"ymin": 7654294.546,
"xmax": 420500.071,
"ymax": 7655884.546,
"spatialReference": {"wkt": "PROJCS[\"UTM_Zone_4_Southern_Hemisphere\",GEOGCS[\"GCS_Geographic_Coordinate_System\",DATUM[\"D_WGS84\",SPHEROID[\"WGS84\",6378137.0,298.257223563]],PRIMEM[\"Greenwich\",0.0],UNIT[\"Degree\",0.0174532925199433]],PROJECTION[\"Transverse_Mercator\"],PARAMETER[\"false_easting\",500000.0],PARAMETER[\"false_northing\",10000000.0],PARAMETER[\"central_meridian\",-159.0],PARAMETER[\"scale_factor\",0.9996],PARAMETER[\"latitude_of_origin\",0.0],UNIT[\"Meter\",1.0]]"}
},
"fullExtent": {
"xmin": 415049.071,
"ymin": 7654294.546,
"xmax": 420500.071,
"ymax": 7655884.546,
"spatialReference": {"wkt": "PROJCS[\"UTM_Zone_4_Southern_Hemisphere\",GEOGCS[\"GCS_Geographic_Coordinate_System\",DATUM[\"D_WGS84\",SPHEROID[\"WGS84\",6378137.0,298.257223563]],PRIMEM[\"Greenwich\",0.0],UNIT[\"Degree\",0.0174532925199433]],PROJECTION[\"Transverse_Mercator\"],PARAMETER[\"false_easting\",500000.0],PARAMETER[\"false_northing\",10000000.0],PARAMETER[\"central_meridian\",-159.0],PARAMETER[\"scale_factor\",0.9996],PARAMETER[\"latitude_of_origin\",0.0],UNIT[\"Meter\",1.0]]"}
},
"sortableFields": "",
"bandCount": 1,
"pixelType": "F64",
"minValues": [
0.0044
],
"maxValues": [
3.056
],
"meanValues": [
1.1875635655515
],
"stdvValues": [
0.6863263821672
],
"hasMultidimensions": false,
"pixelSizeX": 3,
"pixelSizeY": 3,
"datasetFormat": "TIFF",
"uncompressedSize": 7704080,
"blockWidth": 1817,
"blockHeight": 1,
"compressionType": "None",
"bandNames": [
"Band_1"
],
"allowCopy": false,
"allowAnalysis": true,
"itemAccess": false,
"noDataValue": -9999,
"noDataValues": [
-9999
],
"minPixelSize": 0,
"maxPixelSize": 0,
"copyrightText": "NIWA 2024",
"serviceDataType": "esriImageServiceDataTypeGeneric",
"serviceSourceType": "esriImageServiceSourceTypeDataset",
"objectIdField": "",
"fields": [],
"capabilities": "Image,Metadata,Mensuration",
"defaultMosaicMethod": "Center",
"allowedMosaicMethods": "",
"sortField": "",
"sortValue": null,
"sortAscending": true,
"mosaicOperator": "First",
"defaultCompressionQuality": 75,
"defaultResamplingMethod": "Bilinear",
"maxImageHeight": 4100,
"maxImageWidth": 15000,
"allowRasterFunction": true,
"rasterFunctionInfos": [
{
"name": "CooksFloodSymbology",
"description": "For displaying flood depth",
"help": ""
},
{
"name": "None",
"description": "",
"help": ""
}
],
"rasterTypeInfos": [
{
"name": "Raster Dataset",
"description": "Supports all ArcGIS Raster Datasets",
"help": ""
}
],
"mensurationCapabilities": "Basic",
"hasHistograms": true,
"hasColormap": false,
"hasRasterAttributeTable": false,
"minScale": 0,
"maxScale": 0,
"exportTilesAllowed": false,
"supportsStatistics": false,
"supportsAdvancedQueries": false,
"editFieldsInfo": null,
"ownershipBasedAccessControlForRasters": null,
"allowComputeTiePoints": false,
"useStandardizedQueries": true,
"advancedQueryCapabilities": {
"useStandardizedQueries": true,
"supportsStatistics": false,
"supportsOrderBy": false,
"supportsDistinct": false,
"supportsPagination": false
},
"spatialReference": {"wkt": "PROJCS[\"UTM_Zone_4_Southern_Hemisphere\",GEOGCS[\"GCS_Geographic_Coordinate_System\",DATUM[\"D_WGS84\",SPHEROID[\"WGS84\",6378137.0,298.257223563]],PRIMEM[\"Greenwich\",0.0],UNIT[\"Degree\",0.0174532925199433]],PROJECTION[\"Transverse_Mercator\"],PARAMETER[\"false_easting\",500000.0],PARAMETER[\"false_northing\",10000000.0],PARAMETER[\"central_meridian\",-159.0],PARAMETER[\"scale_factor\",0.9996],PARAMETER[\"latitude_of_origin\",0.0],UNIT[\"Meter\",1.0]]"}
}