View In:
ArcGIS JavaScript
NIWA ArcGIS Enterprise Map Viewer
ArcGIS Earth
Service Description: A bathymetry model of the Bay of Plenty (New Zealand) region in 25 m grid resolution. Bathymetry is compiled from multibeam and single-beam data sourced from surveys from NIWA and Land Information New Zealand (LINZ), as well as international surveys by vessels from United States of America and Germany.
Name: Bay_of_Plenty_25m_DTM
Description: A bathymetry model of the Bay of Plenty (New Zealand) region in 25 m grid resolution. Bathymetry is compiled from multibeam and single-beam data sourced from surveys from NIWA and Land Information New Zealand (LINZ), as well as international surveys by vessels from United States of America and Germany.
Single Fused Map Cache: false
Extent:
XMin: 6361525.0
YMin: -3453125.0
XMax: 6586925.0
YMax: -3311175.0
Spatial Reference: 3994
(3994)
LatestVCSWkid(0)
Initial Extent:
XMin: 6361525.0
YMin: -3453125.0
XMax: 6586925.0
YMax: -3311175.0
Spatial Reference: 3994
(3994)
LatestVCSWkid(0)
Full Extent:
XMin: 6361525.0
YMin: -3453125.0
XMax: 6586925.0
YMax: -3311175.0
Spatial Reference: 3994
(3994)
LatestVCSWkid(0)
Pixel Size X: 25.0
Pixel Size Y: 25.0
Band Count: 1
Pixel Type: F32
RasterFunction Infos: {"rasterFunctionInfos": [
{
"name": "BOP Bathymetry Raster Function Template",
"description": "Bay of Plenty Bathymetry - colour scheme elevation",
"help": ""
},
{
"name": "None",
"description": "Make a Raster or Raster Dataset into a Function Raster Dataset.",
"help": ""
}
]}
Mensuration Capabilities: Basic
Has Histograms: true
Has Colormap: false
Has Multi Dimensions : false
Rendering Rule:
Min Scale: 0
Max Scale: 0
Copyright Text: Lamarche, G., Guntz, M., Mackay, K., Pallentin, A., and Mackay, E., 2018. Bay of Plenty. NIWA Miscellaneous Chart Series 109.
Service Data Type: esriImageServiceDataTypeGeneric
Min Values: -2559.0510253906
Max Values: 1733.8576660156
Mean Values: -499.52078198438
Standard Deviation Values: 802.95477466628
Object ID Field:
Fields:
None
Default Mosaic Method: Center
Allowed Mosaic Methods:
SortField:
SortValue: null
Mosaic Operator: First
Default Compression Quality: 10000
Default Resampling Method: Nearest
Max Record Count: null
Max Image Height: 4100
Max Image Width: 15000
Max Download Image Count: null
Max Mosaic Image Count: null
Allow Raster Function: true
Allow Copy: true
Allow Analysis: true
Allow Compute TiePoints: false
Supports Statistics: false
Supports Advanced Queries: false
Use StandardizedQueries: true
Raster Type Infos:
Name: Raster Dataset
Description: Supports all ArcGIS Raster Datasets
Help:
Has Raster Attribute Table: false
Edit Fields Info: null
Ownership Based AccessControl For Rasters: null
Child Resources:
Info
Histograms
Statistics
Key Properties
Legend
Raster Function Infos
Supported Operations:
Export Image
Identify
Compute Histograms
Compute Statistics Histograms
Get Samples
Compute Class Statistics
Query Boundary
Compute Pixel Location
Compute Angles
Validate
Project