{ "currentVersion": 11.1, "serviceDescription": "
A bathymetry model of the Bay of Plenty (New Zealand) region in 25 m grid resolution. <\/span>Bathymetry<\/span> <\/span>is compiled from<\/span> <\/span>multibeam and single-beam data sourced from surveys from NIWA and Land Information<\/span> <\/span>New Zealand (LINZ), as well as international surveys by vessels from United States of<\/span> <\/span>America and Germany.<\/span><\/p><\/div><\/div><\/div>",
"name": "Bay_of_Plenty_25m_DTM",
"description": " A bathymetry model of the Bay of Plenty (New Zealand) region in 25 m grid resolution. <\/span>Bathymetry<\/span> <\/span>is compiled from<\/span> <\/span>multibeam and single-beam data sourced from surveys from NIWA and Land Information<\/span> <\/span>New Zealand (LINZ), as well as international surveys by vessels from United States of<\/span> <\/span>America and Germany.<\/span><\/p><\/div><\/div><\/div>",
"extent": {
"xmin": 6361525,
"ymin": -3453125,
"xmax": 6586925,
"ymax": -3311175,
"spatialReference": {
"wkid": 3994,
"latestWkid": 3994
}
},
"initialExtent": {
"xmin": 6361525,
"ymin": -3453125,
"xmax": 6586925,
"ymax": -3311175,
"spatialReference": {
"wkid": 3994,
"latestWkid": 3994
}
},
"fullExtent": {
"xmin": 6361525,
"ymin": -3453125,
"xmax": 6586925,
"ymax": -3311175,
"spatialReference": {
"wkid": 3994,
"latestWkid": 3994
}
},
"sortableFields": "",
"bandCount": 1,
"pixelType": "F32",
"minValues": [
-2559.0510253906
],
"maxValues": [
1733.8576660156
],
"meanValues": [
-499.52078198438
],
"stdvValues": [
802.95477466628
],
"hasMultidimensions": false,
"pixelSizeX": 25,
"pixelSizeY": 25,
"datasetFormat": "TIFF",
"uncompressedSize": 204771392,
"blockWidth": 128,
"blockHeight": 128,
"compressionType": "None",
"bandNames": [
"Band_1"
],
"allowCopy": true,
"allowAnalysis": true,
"itemAccess": false,
"noDataValue": -3.4028230607370965E38,
"noDataValues": [
-3.4028230607370965E38
],
"minPixelSize": 0,
"maxPixelSize": 0,
"copyrightText": "Lamarche, G., Guntz, M., Mackay, K., Pallentin, A., and Mackay, E., 2018. Bay of Plenty. NIWA Miscellaneous Chart Series 109.",
"serviceDataType": "esriImageServiceDataTypeGeneric",
"serviceSourceType": "esriImageServiceSourceTypeDataset",
"objectIdField": "",
"fields": [],
"capabilities": "Image,Metadata",
"defaultMosaicMethod": "Center",
"allowedMosaicMethods": "",
"sortField": "",
"sortValue": null,
"sortAscending": true,
"mosaicOperator": "First",
"defaultCompressionQuality": 10000,
"defaultResamplingMethod": "Nearest",
"maxImageHeight": 4100,
"maxImageWidth": 15000,
"allowRasterFunction": true,
"rasterFunctionInfos": [
{
"name": "BOP Bathymetry Raster Function Template",
"description": "Bay of Plenty Bathymetry - colour scheme elevation",
"help": ""
},
{
"name": "None",
"description": "Make a Raster or Raster Dataset into a Function Raster Dataset.",
"help": ""
}
],
"rasterTypeInfos": [
{
"name": "Raster Dataset",
"description": "Supports all ArcGIS Raster Datasets",
"help": ""
}
],
"mensurationCapabilities": "Basic",
"hasHistograms": true,
"hasColormap": false,
"hasRasterAttributeTable": false,
"minScale": 0,
"maxScale": 0,
"exportTilesAllowed": false,
"supportsStatistics": false,
"supportsAdvancedQueries": false,
"editFieldsInfo": null,
"ownershipBasedAccessControlForRasters": null,
"allowComputeTiePoints": false,
"useStandardizedQueries": true,
"advancedQueryCapabilities": {
"useStandardizedQueries": true,
"supportsStatistics": false,
"supportsOrderBy": false,
"supportsDistinct": false,
"supportsPagination": false
},
"spatialReference": {
"wkid": 3994,
"latestWkid": 3994
}
}