View In:
ArcGIS JavaScript
NIWA ArcGIS Enterprise Map Viewer
ArcGIS Earth
Service Description: Reference/NZ_Bathymetry_250m
Name: Reference/NZ_Bathymetry_250m
Description:
Single Fused Map Cache: false
Extent:
XMin: 4795705.6000000015
YMin: -5915585.800000001
XMax: 7824705.6000000015
YMax: -2067835.8000000007
Spatial Reference: PROJCS["World_Mercator_41",GEOGCS["GCS_WGS_1984",DATUM["D_WGS_1984",SPHEROID["WGS_1984",6378137.0,298.257223563]],PRIMEM["Greenwich",0.0],UNIT["Degree",0.0174532925199433]],PROJECTION["Mercator"],PARAMETER["false_easting",0.0],PARAMETER["false_northing",0.0],PARAMETER["central_meridian",100.0],PARAMETER["standard_parallel_1",-41.0],UNIT["Meter",1.0]]
Initial Extent:
XMin: 4795705.6000000015
YMin: -5915585.800000001
XMax: 7824705.6000000015
YMax: -2067835.8000000007
Spatial Reference: PROJCS["World_Mercator_41",GEOGCS["GCS_WGS_1984",DATUM["D_WGS_1984",SPHEROID["WGS_1984",6378137.0,298.257223563]],PRIMEM["Greenwich",0.0],UNIT["Degree",0.0174532925199433]],PROJECTION["Mercator"],PARAMETER["false_easting",0.0],PARAMETER["false_northing",0.0],PARAMETER["central_meridian",100.0],PARAMETER["standard_parallel_1",-41.0],UNIT["Meter",1.0]]
Full Extent:
XMin: 4795705.6000000015
YMin: -5915585.800000001
XMax: 7824705.6000000015
YMax: -2067835.8000000007
Spatial Reference: PROJCS["World_Mercator_41",GEOGCS["GCS_WGS_1984",DATUM["D_WGS_1984",SPHEROID["WGS_1984",6378137.0,298.257223563]],PRIMEM["Greenwich",0.0],UNIT["Degree",0.0174532925199433]],PROJECTION["Mercator"],PARAMETER["false_easting",0.0],PARAMETER["false_northing",0.0],PARAMETER["central_meridian",100.0],PARAMETER["standard_parallel_1",-41.0],UNIT["Meter",1.0]]
Pixel Size X: 250.0
Pixel Size Y: 250.0
Band Count: 1
Pixel Type: F32
RasterFunction Infos: {"rasterFunctionInfos": [
{
"name": "Stretch Function",
"description": "A raster function template.",
"help": ""
},
{
"name": "Hillshade Function",
"description": "A raster function template.",
"help": ""
},
{
"name": "Aspect Function",
"description": "A raster function template.",
"help": ""
},
{
"name": "NIWA Blue Bathymetry",
"description": "NIWA Bathymetric Blue/Black Symbology Style",
"help": ""
},
{
"name": "Bathymetric Scale (min Max Stretched)",
"description": "A raster function template to provide styling as a Bathymetric Scale (min Max Stretched).",
"help": ""
},
{
"name": "Blue bathymetric scale",
"description": "Blue Scale for Bathymetric Display",
"help": ""
},
{
"name": "Blue (Dark To Light) min-Max stretched",
"description": "A raster function template to provide styling. Blue (Dark To Light) min-Max stretched.",
"help": ""
},
{
"name": "None",
"description": "",
"help": ""
}
]}
Mensuration Capabilities: Basic
Has Histograms: true
Has Colormap: false
Has Multi Dimensions : false
Rendering Rule:
Min Scale: 0
Max Scale: 0
Copyright Text:
Service Data Type: esriImageServiceDataTypeScientific
Min Values: -10099.1533203125
Max Values: 3468.59619140625
Mean Values: -3430.0692886597903
Standard Deviation Values: 1842.5293648530255
Object ID Field: OBJECTID
Fields:
-
OBJECTID
(
type: esriFieldTypeOID, alias: OBJECTID
)
-
Shape
(
type: esriFieldTypeGeometry, alias: Shape
)
-
Name
(
type: esriFieldTypeString, alias: Name, length: 200
)
-
MinPS
(
type: esriFieldTypeDouble, alias: MinPS
)
-
MaxPS
(
type: esriFieldTypeDouble, alias: MaxPS
)
-
LowPS
(
type: esriFieldTypeDouble, alias: LowPS
)
-
HighPS
(
type: esriFieldTypeDouble, alias: HighPS
)
-
Category
(
type: esriFieldTypeInteger, alias: Category
, Coded Values:
[0: Unknown]
, [1: Primary]
, [2: Overview]
, ...6 more...
)
-
Tag
(
type: esriFieldTypeString, alias: Tag, length: 100
)
-
GroupName
(
type: esriFieldTypeString, alias: GroupName, length: 100
)
-
ProductName
(
type: esriFieldTypeString, alias: ProductName, length: 100
)
-
CenterX
(
type: esriFieldTypeDouble, alias: CenterX
)
-
CenterY
(
type: esriFieldTypeDouble, alias: CenterY
)
-
ZOrder
(
type: esriFieldTypeInteger, alias: ZOrder
)
-
Shape_Length
(
type: esriFieldTypeDouble, alias: Shape_Length
)
-
Shape_Area
(
type: esriFieldTypeDouble, alias: Shape_Area
)
Default Mosaic Method: None
Allowed Mosaic Methods: None,LockRaster
SortField: N/A
SortValue: N/A
Mosaic Operator: First
Default Compression Quality: 10000
Default Resampling Method: Nearest
Max Record Count: 1000
Max Image Height: 4100
Max Image Width: 15000
Max Download Image Count: 20
Max Mosaic Image Count: 20
Allow Raster Function: true
Allow Copy: true
Allow Analysis: true
Allow Compute TiePoints: false
Supports Statistics: true
Supports Advanced Queries: true
Use StandardizedQueries: true
Raster Type Infos:
Name: Raster Dataset
Description: Supports all ArcGIS Raster Datasets
Help:
Has Raster Attribute Table: false
Edit Fields Info: null
Ownership Based AccessControl For Rasters: null
Child Resources:
Info
Histograms
Statistics
Key Properties
Legend
Raster Function Infos
Supported Operations:
Export Image
Query
Identify
Measure
Compute Histograms
Compute Statistics Histograms
Get Samples
Compute Class Statistics
Query Boundary
Compute Pixel Location
Compute Angles
Validate
Project