View In:
ArcGIS JavaScript
NIWA ArcGIS Enterprise Map Viewer
ArcGIS Earth
Service Description: VaisiganoSamoa/IFMO_Q1000_060m_VE18IL2000_008_d_Max_tif
Name: VaisiganoSamoa/IFMO_Q1000_060m_VE18IL2000_008_d_Max_tif
Description:
Single Fused Map Cache: false
Extent:
XMin: 415726.0
YMin: 8464105.0
XMax: 421036.0
YMax: 8471612.0
Spatial Reference: 32702
(32702)
LatestVCSWkid(0)
Initial Extent:
XMin: 415726.0
YMin: 8464105.0
XMax: 421036.0
YMax: 8471612.0
Spatial Reference: 32702
(32702)
LatestVCSWkid(0)
Full Extent:
XMin: 415726.0
YMin: 8464105.0
XMax: 421036.0
YMax: 8471612.0
Spatial Reference: 32702
(32702)
LatestVCSWkid(0)
Pixel Size X: 1.0
Pixel Size Y: 1.0
Band Count: 1
Pixel Type: F32
RasterFunction Infos: {"rasterFunctionInfos": [
{
"name": "Vaisigano Flood Depth Render",
"description": "Vaisigano Flood Depth Render",
"help": ""
},
{
"name": "None",
"description": "",
"help": ""
}
]}
Mensuration Capabilities: Basic
Has Histograms: true
Has Colormap: false
Has Multi Dimensions : false
Rendering Rule:
Min Scale: 0
Max Scale: 0
Copyright Text:
Service Data Type: esriImageServiceDataTypeGeneric
Min Values: -2.3596046958119E-4
Max Values: 13.329999923706
Mean Values: 1.0343534280396
Standard Deviation Values: 1.0426920702141
Object ID Field:
Fields:
None
Default Mosaic Method: Center
Allowed Mosaic Methods:
SortField:
SortValue: null
Mosaic Operator: First
Default Compression Quality: 75
Default Resampling Method: Bilinear
Max Record Count: null
Max Image Height: 4100
Max Image Width: 15000
Max Download Image Count: null
Max Mosaic Image Count: null
Allow Raster Function: true
Allow Copy: false
Allow Analysis: true
Allow Compute TiePoints: false
Supports Statistics: false
Supports Advanced Queries: false
Use StandardizedQueries: true
Raster Type Infos:
Name: Raster Dataset
Description: Supports all ArcGIS Raster Datasets
Help:
Has Raster Attribute Table: false
Edit Fields Info: null
Ownership Based AccessControl For Rasters: null
Child Resources:
Info
Histograms
Statistics
Key Properties
Legend
Raster Function Infos
Supported Operations:
Export Image
Identify
Measure
Compute Histograms
Compute Statistics Histograms
Get Samples
Compute Class Statistics
Query Boundary
Compute Pixel Location
Compute Angles
Validate
Project