View In:
ArcGIS JavaScript
NIWA ArcGIS Enterprise Map Viewer
ArcGIS Earth
Service Description: NIWA SCENZ All Oceanparameter Timeseries (Timesteps weekly, monthly, seasonal, annual) for 11 Variables.
NZTM projection. Image Service for analysis [published November 2023, V5]
Name: SCENZ/SCENZ_All_TIMESERIES_NZTM_Ref
Description: NIWA SCENZ All Oceanparameter Timeseries (Timesteps weekly, monthly, seasonal, annual) for 11 Variables.
NZTM projection. Image Service for analysis [published November 2023, V5]
Single Fused Map Cache: false
Extent:
XMin: 949750.0
YMin: 4680250.0
XMax: 2185250.0
YMax: 6261750.0
Spatial Reference: 2193
(2193)
LatestVCSWkid(0)
Initial Extent:
XMin: 949750.0
YMin: 4680250.0
XMax: 2185250.0
YMax: 6261750.0
Spatial Reference: 2193
(2193)
LatestVCSWkid(0)
Full Extent:
XMin: 949750.0
YMin: 4680250.0
XMax: 2185250.0
YMax: 6261750.0
Spatial Reference: 2193
(2193)
LatestVCSWkid(0)
Time Info:
Start Time Field: StdTime
End Time Field: StdTime
Time Extent:
[2002/07/01 00:00:00 UTC, 2023/08/14 00:00:00 UTC]
Time Reference:
N/A
Pixel Size X: 500.0
Pixel Size Y: 500.0
Band Count: 1
Pixel Type: F32
RasterFunction Infos: {"rasterFunctionInfos": [
{
"name": "None",
"description": "Make a Raster or Raster Dataset into a Function Raster Dataset.",
"help": ""
},
{
"name": "ADET",
"description": "A raster function template.",
"help": ""
},
{
"name": "BBP",
"description": "A raster function template.",
"help": ""
},
{
"name": "CHL",
"description": "A raster function template.",
"help": ""
},
{
"name": "EBED",
"description": "A raster function template.",
"help": ""
},
{
"name": "HVIS",
"description": "A raster function template.",
"help": ""
},
{
"name": "KPAR",
"description": "A raster function template.",
"help": ""
},
{
"name": "PAR",
"description": "A raster function template.",
"help": ""
},
{
"name": "POB",
"description": "A raster function template.",
"help": ""
},
{
"name": "SEC",
"description": "A raster function template.",
"help": ""
},
{
"name": "SST",
"description": "A raster function template.",
"help": ""
},
{
"name": "TSS",
"description": "A raster function template.",
"help": ""
}
]}
Mensuration Capabilities: Basic
Has Histograms: true
Has Colormap: false
Has Multi Dimensions : true
Rendering Rule:
Min Scale: 0
Max Scale: 0
Copyright Text: NIWA 2023
Service Data Type: esriImageServiceDataTypeScientific
Min Values: 0
Max Values: 10.637999534606934
Mean Values: 0.02719302089185067
Standard Deviation Values: 0.06858621553881535
Object ID Field: OBJECTID
Fields:
-
OBJECTID
(
type: esriFieldTypeOID, alias: OBJECTID
)
-
Category
(
type: esriFieldTypeInteger, alias: Category
, Coded Values:
[0: Unknown]
, [1: Primary]
, [2: Overview]
, ...6 more...
)
-
GroupName
(
type: esriFieldTypeString, alias: GroupName, length: 100
)
-
ProductName
(
type: esriFieldTypeString, alias: ProductName, length: 100
)
-
Shape
(
type: esriFieldTypeGeometry, alias: Shape
)
-
Variable
(
type: esriFieldTypeString, alias: Variable, length: 15
)
-
StdTime
(
type: esriFieldTypeDate, alias: StdTime, length: 8
)
-
Year
(
type: esriFieldTypeString, alias: Year, length: 4
)
-
Month
(
type: esriFieldTypeString, alias: Month, length: 2
)
-
Day
(
type: esriFieldTypeString, alias: Day, length: 2
)
Default Mosaic Method: ByAttribute
Allowed Mosaic Methods: ByAttribute,None
SortField: GroupName
SortValue: 01/01/1900
Mosaic Operator: Last
Default Compression Quality: 10000
Default Resampling Method: Nearest
Max Record Count: 2000
Max Image Height: 5000
Max Image Width: 5000
Max Download Image Count: 50
Max Mosaic Image Count: 1500
Allow Raster Function: true
Allow Copy: true
Allow Analysis: true
Allow Compute TiePoints: false
Supports Statistics: true
Supports Advanced Queries: true
Use StandardizedQueries: true
Raster Type Infos:
Name: Raster Dataset
Description: Supports all ArcGIS Raster Datasets
Help:
Has Raster Attribute Table: false
Edit Fields Info: null
Ownership Based AccessControl For Rasters: null
Child Resources:
Info
Histograms
Statistics
Key Properties
Legend
Raster Function Infos
Multidimensional Info
Slices
Supported Operations:
Export Image
Query
Identify
Measure
Compute Histograms
Compute Statistics Histograms
Get Samples
Compute Class Statistics
Query Boundary
Compute Pixel Location
Compute Angles
Validate
Project