View In:
ArcGIS JavaScript
NIWA ArcGIS Enterprise Map Viewer
ArcGIS Earth
Service Description: PARTneR-II/TCSally_tif
Name: PARTneR-II/TCSally_tif
Description:
Single Fused Map Cache: false
Extent:
XMin: 415049.071
YMin: 7654294.546
XMax: 420500.071
YMax: 7655884.546
Spatial Reference: 0
(0)
LatestVCSWkid(0)
Initial Extent:
XMin: 415049.071
YMin: 7654294.546
XMax: 420500.071
YMax: 7655884.546
Spatial Reference: 0
(0)
LatestVCSWkid(0)
Full Extent:
XMin: 415049.071
YMin: 7654294.546
XMax: 420500.071
YMax: 7655884.546
Spatial Reference: 0
(0)
LatestVCSWkid(0)
Pixel Size X: 3.0
Pixel Size Y: 3.0
Band Count: 1
Pixel Type: F32
RasterFunction Infos: {"rasterFunctionInfos": [
{
"name": "CooksFloodSymbology",
"description": "For displaying flood depth",
"help": ""
},
{
"name": "None",
"description": "",
"help": ""
}
]}
Mensuration Capabilities: Basic
Has Histograms: false
Has Colormap: false
Has Multi Dimensions : false
Rendering Rule:
Min Scale: 0
Max Scale: 0
Copyright Text:
Service Data Type: esriImageServiceDataTypeGeneric
Min Values: 1.9999999494758E-4
Max Values: 1.9090000391006
Mean Values: 0.57948630987154
Standard Deviation Values: 0.26847589948933
Object ID Field:
Fields:
None
Default Mosaic Method: Center
Allowed Mosaic Methods:
SortField:
SortValue: null
Mosaic Operator: First
Default Compression Quality: 75
Default Resampling Method: Bilinear
Max Record Count: null
Max Image Height: 4100
Max Image Width: 15000
Max Download Image Count: null
Max Mosaic Image Count: null
Allow Raster Function: true
Allow Copy: false
Allow Analysis: true
Allow Compute TiePoints: false
Supports Statistics: false
Supports Advanced Queries: false
Use StandardizedQueries: true
Raster Type Infos:
Name: Raster Dataset
Description: Supports all ArcGIS Raster Datasets
Help:
Has Raster Attribute Table: false
Edit Fields Info: null
Ownership Based AccessControl For Rasters: null
Child Resources:
Info
Statistics
Key Properties
Legend
Raster Function Infos
Supported Operations:
Export Image
Identify
Measure
Compute Histograms
Compute Statistics Histograms
Get Samples
Compute Class Statistics
Query Boundary
Compute Pixel Location
Compute Angles
Validate
Project