View In:
ArcGIS JavaScript
NIWA ArcGIS Enterprise Map Viewer
ArcGIS Earth
Service Description: PARTneR-II/50_Year_ARI_WM_tif
Name: PARTneR-II/50_Year_ARI_WM_tif
Description:
Single Fused Map Cache: false
Extent:
XMin: -1.7790917364260178E7
YMin: -2417071.6531821354
XMax: -1.7785061364260178E7
YMax: -2415325.6531821354
Spatial Reference: 102100
(3857)
LatestVCSWkid(0)
Initial Extent:
XMin: -1.7790917364260178E7
YMin: -2417071.6531821354
XMax: -1.7785061364260178E7
YMax: -2415325.6531821354
Spatial Reference: 102100
(3857)
LatestVCSWkid(0)
Full Extent:
XMin: -1.7790917364260178E7
YMin: -2417071.6531821354
XMax: -1.7785061364260178E7
YMax: -2415325.6531821354
Spatial Reference: 102100
(3857)
LatestVCSWkid(0)
Pixel Size X: 3.0
Pixel Size Y: 3.0
Band Count: 1
Pixel Type: F64
RasterFunction Infos: {"rasterFunctionInfos": [
{
"name": "CooksFloodSymbology",
"description": "For displaying flood depth",
"help": ""
},
{
"name": "None",
"description": "",
"help": ""
}
]}
Mensuration Capabilities: Basic
Has Histograms: true
Has Colormap: false
Has Multi Dimensions : false
Rendering Rule:
Min Scale: 0
Max Scale: 0
Copyright Text:
Service Data Type: esriImageServiceDataTypeGeneric
Min Values: 0.019
Max Values: 2.773
Mean Values: 1.0499241141557
Standard Deviation Values: 0.65046927835746
Object ID Field:
Fields:
None
Default Mosaic Method: Center
Allowed Mosaic Methods:
SortField:
SortValue: null
Mosaic Operator: First
Default Compression Quality: 75
Default Resampling Method: Bilinear
Max Record Count: null
Max Image Height: 4100
Max Image Width: 15000
Max Download Image Count: null
Max Mosaic Image Count: null
Allow Raster Function: true
Allow Copy: false
Allow Analysis: true
Allow Compute TiePoints: false
Supports Statistics: false
Supports Advanced Queries: false
Use StandardizedQueries: true
Raster Type Infos:
Name: Raster Dataset
Description: Supports all ArcGIS Raster Datasets
Help:
Has Raster Attribute Table: false
Edit Fields Info: null
Ownership Based AccessControl For Rasters: null
Child Resources:
Info
Histograms
Statistics
Key Properties
Legend
Raster Function Infos
Supported Operations:
Export Image
Identify
Measure
Compute Histograms
Compute Statistics Histograms
Get Samples
Compute Class Statistics
Query Boundary
Compute Pixel Location
Compute Angles
Validate
Project