{
 "currentVersion": 11.1,
 "serviceDescription": "VaisiganoSamoa/IFMO_Q0100_060m_VE18IL2000_008_d_Max",
 "name": "VaisiganoSamoa/IFMO_Q0100_060m_VE18IL2000_008_d_Max",
 "description": "",
 "extent": {
  "xmin": 415214.32664637174,
  "ymin": 8463741.902059764,
  "xmax": 421548.81891005405,
  "ymax": 8471973.818378417,
  "spatialReference": {
   "wkid": 32702,
   "latestWkid": 32702
  }
 },
 "initialExtent": {
  "xmin": 415214.32664637174,
  "ymin": 8463741.902059764,
  "xmax": 421548.81891005405,
  "ymax": 8471973.818378417,
  "spatialReference": {
   "wkid": 32702,
   "latestWkid": 32702
  }
 },
 "fullExtent": {
  "xmin": 415214.32664637174,
  "ymin": 8463741.902059764,
  "xmax": 421548.81891005405,
  "ymax": 8471973.818378417,
  "spatialReference": {
   "wkid": 32702,
   "latestWkid": 32702
  }
 },
 "sortableFields": "",
 "bandCount": 1,
 "pixelType": "F32",
 "minValues": [
  -1.2714050535578E-4
 ],
 "maxValues": [
  13.760000228882
 ],
 "meanValues": [
  0.96469299936615
 ],
 "stdvValues": [
  0.99250762512532
 ],
 "hasMultidimensions": false,
 "pixelSizeX": 1.1927117800192624,
 "pixelSizeY": 1.0964193285366477,
 "datasetFormat": "TIFF",
 "uncompressedSize": 159499952,
 "blockWidth": 128,
 "blockHeight": 128,
 "compressionType": "None",
 "bandNames": [
  "Band_1"
 ],
 "allowCopy": false,
 "allowAnalysis": true,
 "itemAccess": false,
 "noDataValue": -999,
 "noDataValues": [
  -999
 ],
 "minPixelSize": 0,
 "maxPixelSize": 0,
 "copyrightText": "",
 "serviceDataType": "esriImageServiceDataTypeGeneric",
 "serviceSourceType": "esriImageServiceSourceTypeDataset",
 "objectIdField": "",
 "fields": [],
 "capabilities": "Image,Metadata,Mensuration",
 "defaultMosaicMethod": "Center",
 "allowedMosaicMethods": "",
 "sortField": "",
 "sortValue": null,
 "sortAscending": true,
 "mosaicOperator": "First",
 "defaultCompressionQuality": 75,
 "defaultResamplingMethod": "Bilinear",
 "maxImageHeight": 4100,
 "maxImageWidth": 15000,
 "allowRasterFunction": true,
 "rasterFunctionInfos": [
  {
   "name": "Vaisigano Flood Depth Render",
   "description": "Vaisigano Flood Depth Render",
   "help": ""
  },
  {
   "name": "None",
   "description": "",
   "help": ""
  }
 ],
 "rasterTypeInfos": [
  {
   "name": "Raster Dataset",
   "description": "Supports all ArcGIS Raster Datasets",
   "help": ""
  }
 ],
 "mensurationCapabilities": "Basic",
 "hasHistograms": true,
 "hasColormap": false,
 "hasRasterAttributeTable": false,
 "minScale": 0,
 "maxScale": 0,
 "exportTilesAllowed": false,
 "supportsStatistics": false,
 "supportsAdvancedQueries": false,
 "editFieldsInfo": null,
 "ownershipBasedAccessControlForRasters": null,
 "allowComputeTiePoints": false,
 "useStandardizedQueries": true,
 "advancedQueryCapabilities": {
  "useStandardizedQueries": true,
  "supportsStatistics": false,
  "supportsOrderBy": false,
  "supportsDistinct": false,
  "supportsPagination": false
 },
 "spatialReference": {
  "wkid": 32702,
  "latestWkid": 32702
 }
}
