{
 "currentVersion": 11.1,
 "serviceDescription": "SCENZ/SCENZ_All_CLIMATOLOGY_NZTM_Ref",
 "name": "SCENZ/SCENZ_All_CLIMATOLOGY_NZTM_Ref",
 "description": "",
 "extent": {
  "xmin": 949750,
  "ymin": 4680250,
  "xmax": 2185250,
  "ymax": 6261750,
  "spatialReference": {
   "wkid": 2193,
   "latestWkid": 2193
  }
 },
 "initialExtent": {
  "xmin": 949750,
  "ymin": 4680250,
  "xmax": 2185250,
  "ymax": 6261750,
  "spatialReference": {
   "wkid": 2193,
   "latestWkid": 2193
  }
 },
 "fullExtent": {
  "xmin": 949750,
  "ymin": 4680250,
  "xmax": 2185250,
  "ymax": 6261750,
  "spatialReference": {
   "wkid": 2193,
   "latestWkid": 2193
  }
 },
 "sortableFields": "StdTime",
 "bandCount": 1,
 "pixelType": "F32",
 "minValues": [
  0
 ],
 "maxValues": [
  7.860000133514404
 ],
 "meanValues": [
  0.029816170580768794
 ],
 "stdvValues": [
  0.0744014961961464
 ],
 "hasMultidimensions": true,
 "timeInfo": {
  "startTimeField": "StdTime",
  "endTimeField": "StdTime",
  "timeExtent": [
   1025481600000,
   1056326400000
  ],
  "timeReference": null,
  "defaultTimeInterval": 1,
  "defaultTimeIntervalUnits": "esriTimeUnitsDays"
 },
 "pixelSizeX": 500,
 "pixelSizeY": 500,
 "datasetFormat": "AMD",
 "uncompressedSize": 31263092,
 "blockWidth": 2048,
 "blockHeight": 256,
 "compressionType": "None",
 "bandNames": [
  "Band_1"
 ],
 "allowCopy": true,
 "allowAnalysis": true,
 "itemAccess": false,
 "defaultVariable": "CHL",
 "minPixelSize": 0,
 "maxPixelSize": 0,
 "copyrightText": "",
 "serviceDataType": "esriImageServiceDataTypeScientific",
 "serviceSourceType": "esriImageServiceSourceTypeMosaicDataset",
 "objectIdField": "OBJECTID",
 "fields": [
  {
   "name": "OBJECTID",
   "type": "esriFieldTypeOID",
   "alias": "OBJECTID",
   "domain": null
  },
  {
   "name": "Category",
   "type": "esriFieldTypeInteger",
   "alias": "Category",
   "domain": {
    "type": "codedValue",
    "name": "MosaicCatalogItemCategoryDomain",
    "description": "Catalog item categories.",
    "codedValues": [
     {
      "name": "Unknown",
      "code": 0
     },
     {
      "name": "Primary",
      "code": 1
     },
     {
      "name": "Overview",
      "code": 2
     },
     {
      "name": "Unprocessed Overview",
      "code": 3
     },
     {
      "name": "Partial Overview",
      "code": 4
     },
     {
      "name": "Inactive",
      "code": 5
     },
     {
      "name": "Uploaded",
      "code": 253
     },
     {
      "name": "Incomplete",
      "code": 254
     },
     {
      "name": "Custom",
      "code": 255
     }
    ],
    "mergePolicy": "esriMPTDefaultValue",
    "splitPolicy": "esriSPTDefaultValue"
   }
  },
  {
   "name": "GroupName",
   "type": "esriFieldTypeString",
   "alias": "GroupName",
   "domain": null,
   "length": 100
  },
  {
   "name": "ProductName",
   "type": "esriFieldTypeString",
   "alias": "ProductName",
   "domain": null,
   "length": 100
  },
  {
   "name": "Shape",
   "type": "esriFieldTypeGeometry",
   "alias": "Shape",
   "domain": null
  },
  {
   "name": "Variable",
   "type": "esriFieldTypeString",
   "alias": "Variable",
   "domain": null,
   "length": 15
  },
  {
   "name": "StdTime",
   "type": "esriFieldTypeDate",
   "alias": "StdTime",
   "domain": null,
   "length": 8
  },
  {
   "name": "Year",
   "type": "esriFieldTypeString",
   "alias": "Year",
   "domain": null,
   "length": 4
  },
  {
   "name": "Month",
   "type": "esriFieldTypeString",
   "alias": "Month",
   "domain": null,
   "length": 2
  },
  {
   "name": "Day",
   "type": "esriFieldTypeString",
   "alias": "Day",
   "domain": null,
   "length": 2
  }
 ],
 "capabilities": "Catalog,Mensuration,Image,Metadata",
 "defaultMosaicMethod": "ByAttribute",
 "allowedMosaicMethods": "ByAttribute,Center,NorthWest,Nadir,LockRaster,Seamline,None",
 "sortField": "GroupName",
 "sortValue": "01/01/1900",
 "sortAscending": true,
 "mosaicOperator": "Last",
 "maxDownloadSizeLimit": 2048,
 "defaultCompressionQuality": 10000,
 "defaultResamplingMethod": "Nearest",
 "maxImageHeight": 5000,
 "maxImageWidth": 5000,
 "maxRecordCount": 2000,
 "maxDownloadImageCount": 50,
 "maxMosaicImageCount": 1500,
 "allowRasterFunction": true,
 "rasterFunctionInfos": [
  {
   "name": "None",
   "description": "Make a Raster or Raster Dataset into a Function Raster Dataset.",
   "help": ""
  },
  {
   "name": "ADET",
   "description": "A raster function template.",
   "help": ""
  },
  {
   "name": "BBP",
   "description": "A raster function template.",
   "help": ""
  },
  {
   "name": "CHL",
   "description": "A raster function template.",
   "help": ""
  },
  {
   "name": "EBED",
   "description": "A raster function template.",
   "help": ""
  },
  {
   "name": "HVIS",
   "description": "A raster function template.",
   "help": ""
  },
  {
   "name": "KPAR",
   "description": "A raster function template.",
   "help": ""
  },
  {
   "name": "PAR",
   "description": "A raster function template.",
   "help": ""
  },
  {
   "name": "POB",
   "description": "A raster function template.",
   "help": ""
  },
  {
   "name": "SEC",
   "description": "A raster function template.",
   "help": ""
  },
  {
   "name": "SST",
   "description": "A raster function template.",
   "help": ""
  },
  {
   "name": "TSS",
   "description": "A raster function template.",
   "help": ""
  }
 ],
 "rasterTypeInfos": [
  {
   "name": "Raster Dataset",
   "description": "Supports all ArcGIS Raster Datasets",
   "help": ""
  }
 ],
 "mensurationCapabilities": "Basic",
 "hasHistograms": true,
 "hasColormap": false,
 "hasRasterAttributeTable": false,
 "minScale": 0,
 "maxScale": 0,
 "exportTilesAllowed": false,
 "supportsStatistics": true,
 "supportsAdvancedQueries": true,
 "editFieldsInfo": null,
 "ownershipBasedAccessControlForRasters": null,
 "allowComputeTiePoints": false,
 "useStandardizedQueries": true,
 "advancedQueryCapabilities": {
  "useStandardizedQueries": true,
  "supportsStatistics": true,
  "supportsOrderBy": true,
  "supportsDistinct": true,
  "supportsPagination": true
 },
 "spatialReference": {
  "wkid": 2193,
  "latestWkid": 2193
 }
}
